BEGIN:VCALENDAR
VERSION:2.0
PRODID:-//ELC Language Coaching Certification - ECPv6.15.20//NONSGML v1.0//EN
CALSCALE:GREGORIAN
METHOD:PUBLISH
X-ORIGINAL-URL:https://languagecoachingcertification.com
X-WR-CALDESC:Events for ELC Language Coaching Certification
REFRESH-INTERVAL;VALUE=DURATION:PT1H
X-Robots-Tag:noindex
X-PUBLISHED-TTL:PT1H
BEGIN:VTIMEZONE
TZID:Europe/Madrid
BEGIN:DAYLIGHT
TZOFFSETFROM:+0100
TZOFFSETTO:+0200
TZNAME:CEST
DTSTART:20250330T010000
END:DAYLIGHT
BEGIN:STANDARD
TZOFFSETFROM:+0200
TZOFFSETTO:+0100
TZNAME:CET
DTSTART:20251026T010000
END:STANDARD
BEGIN:DAYLIGHT
TZOFFSETFROM:+0100
TZOFFSETTO:+0200
TZNAME:CEST
DTSTART:20260329T010000
END:DAYLIGHT
BEGIN:STANDARD
TZOFFSETFROM:+0200
TZOFFSETTO:+0100
TZNAME:CET
DTSTART:20261025T010000
END:STANDARD
BEGIN:DAYLIGHT
TZOFFSETFROM:+0100
TZOFFSETTO:+0200
TZNAME:CEST
DTSTART:20270328T010000
END:DAYLIGHT
BEGIN:STANDARD
TZOFFSETFROM:+0200
TZOFFSETTO:+0100
TZNAME:CET
DTSTART:20271031T010000
END:STANDARD
END:VTIMEZONE
BEGIN:VEVENT
DTSTART;TZID=Europe/Madrid:20260418T150000
DTEND;TZID=Europe/Madrid:20260418T180000
DTSTAMP:20260425T163318
CREATED:20180718T142256Z
LAST-MODIFIED:20260302T094105Z
UID:10000077-1776524400-1776535200@languagecoachingcertification.com
SUMMARY:Neurolanguage Coaching Online course for Language Teachers Worldwide WEEKEND (delivered in English)
DESCRIPTION:Transform from Teacher to Coach & Transform your results\nLanguage Teachers:\nDo something amazing and transform your results.\nEnhance your teaching career or choose a new career path.\nThis course is accredited by the ICF (International Coach Federation) with 30 Continuing Coaching Education (CCE) hours\, plus 6 hours of Resource Development. The course has a very well-balanced ratio of theory and practice with a high degree of active coaching\, so you instantly come into practical coaching and “learning by doing”. \n \nWe introduce you to Coaching\nThe first sessions focus on introducing participants to coaching in general and also to the International Coaching Federation principles and core competences. It also introduces an understanding of the theory and principles behind brain-based coaching and how neuroscientific research can assist in understanding and formulating powerful coaching conversations. \nThis introduction aims to lay the pathway for participants to really assist and coach others to focus and develop themselves. Participants develop key coaching skills\, such as active listening\, powerful questioning and effective coaching conversations as well as learn to use different coaching models. \nParticipants immediately start with coaching practice to pave the way for the neuroscience and the language coaching. \nWe introduce you to Neuroscience and Emotional Intelligence\nThe second part of the course takes participants through the principles of neuroscience\, how the brain functions\, learns and reacts\, building up the knowledge step by step and then understanding how this applies to language learning\, The importance of understanding the emotional brain\, social pain\, and potentially the perfect learning state as well as the respect for each and every learner as individuals. \nWe introduce you to Neurolanguage Coaching Skills\nThis part focuses on equipping participants with an understanding of the theory and principles behind language coaching and the ability to integrate principles of traditional coaching and brain-based coaching\, together with the neuroscience of learning into the language learning process. In effect\, as a Neurolanguage Coach\, we go one step beyond language coaching. Coaching models are practiced and also new language coaching models as well as a definite structure for the language engagement is introduced. \nLearning outcomes:\n\n Sets the foundations for coaching and coaching conversations; \n Deepens coaching effectiveness; \n Enhances active listening and speaking skills; \n Gives insights to various coaching models and develops their use in practice; \n How to use traditional coaching models in the language teaching process; \n How to create the perfect learning state in the coachee based on principles of neuroscience; \n How to connect language coaching to the ICF coaching competencies; \n How to engage coachees into focused learning and sustain their goals with high success rate; \nHow to connect and apply new language coaching models to the teaching process; \nHow to make the transformation from language teacher to language coach; \nHow to tailor make courses to the individual coachee. \n\nWe have created the Live interactive online programme\, consisting of 36 hours of online sessions\, for those who find it difficult to come to our 3-day Intensive course venues.  \nWe use a virtual classroom software that is live with Rachel Paling or any of our qualified ELC NL® Trainers and allows all course participants to see each other through the video option\, speak to each other and share all kinds of media (presentations\, whiteboard\, video\, internet access\, etc.) and therefore it is just as interactive as the 3-day Intensive course. See below next upcoming Interactive Online Course. \nDownload DETAILED SCHEDULE >> \nDiscounts available. Please contact us for the breakdown of the Course Prices\, instalment plan and details of the programme. \nDelivered by: Juan Carlos Campos\, Professional Neurolanguage Coach® and Licensed Trainer \nONLINE starting 18th April 2026 WEEKEND GROUP – 9:00am-12:00pm Colombia/Peru Time (GMT-5)\, 10:00am-13:00pm New\nYork time (GMT-4)\, 15:00-18:00 Madrid time (CET)\nClick here to request your information pack
URL:https://languagecoachingcertification.com/event/online-weekends/
CATEGORIES:In English,LCC online April,NL Coaching Online
ATTACH;FMTTYPE=image/jpeg:https://languagecoachingcertification.com/wp-content/uploads/LCC-Apr-May2026-Weekends.jpg
END:VEVENT
END:VCALENDAR